Package: iSEEpathways Version: 1.6.0 Command: /home/biocbuild/R/R/bin/R CMD INSTALL iSEEpathways StartedAt: 2025-05-15 20:37:30 -0000 (Thu, 15 May 2025) EndedAt: 2025-05-15 20:38:13 -0000 (Thu, 15 May 2025) EllapsedTime: 43.0 seconds RetCode: 0 Status: OK