Package: iSEEpathways Version: 1.6.0 Maintainer: Kevin Rue-Albrecht MaintainerEmail: kevinrue67 at gmail.com git_url: https://git.bioconductor.org/packages/iSEEpathways git_branch: RELEASE_3_21 git_last_commit: 464af3f git_last_commit_date: 2025-04-15 13:20:38 -0400 (Tue, 15 Apr 2025)