Package: iSEEfier Version: 1.4.0 Command: /Library/Frameworks/R.framework/Resources/bin/R CMD build --keep-empty-dirs --no-resave-data iSEEfier StartedAt: 2025-09-26 02:46:48 -0400 (Fri, 26 Sep 2025) EndedAt: 2025-09-26 02:48:32 -0400 (Fri, 26 Sep 2025) EllapsedTime: 104.2 seconds RetCode: 0 Status: OK PackageFile: iSEEfier_1.4.0.tar.gz PackageFileSize: 492.7 KiB