Package: iSEEde Version: 1.4.0 Command: /home/biocbuild/R/R/bin/R CMD INSTALL iSEEde StartedAt: 2025-01-30 20:44:25 -0000 (Thu, 30 Jan 2025) EndedAt: 2025-01-30 20:45:07 -0000 (Thu, 30 Jan 2025) EllapsedTime: 41.2 seconds RetCode: 0 Status: OK