Package: iPath Version: 1.14.0 Command: /home/biocbuild/R/R/bin/R CMD INSTALL iPath StartedAt: 2025-04-21 20:22:14 -0000 (Mon, 21 Apr 2025) EndedAt: 2025-04-21 20:22:44 -0000 (Mon, 21 Apr 2025) EllapsedTime: 29.9 seconds RetCode: 0 Status: OK