Package: iPath Version: 1.14.0 Command: /home/biocbuild/R/R/bin/R CMD check --install=check:iPath.install-out.txt --library=/home/biocbuild/R/R/site-library --no-vignettes --timings iPath_1.14.0.tar.gz StartedAt: 2025-05-06 09:54:24 -0000 (Tue, 06 May 2025) EndedAt: 2025-05-06 09:56:17 -0000 (Tue, 06 May 2025) EllapsedTime: 113.1 seconds RetCode: 0 Status: OK CheckDir: iPath.Rcheck Warnings: 0