Package: iPath Version: 1.12.0 Command: /Library/Frameworks/R.framework/Resources/bin/R CMD INSTALL iPath StartedAt: 2025-01-30 18:19:40 -0500 (Thu, 30 Jan 2025) EndedAt: 2025-01-30 18:19:59 -0500 (Thu, 30 Jan 2025) EllapsedTime: 19.7 seconds RetCode: 0 Status: OK