Package: iPAC Version: 1.52.0 Command: /home/biocbuild/R/R/bin/R CMD build --keep-empty-dirs --no-resave-data iPAC StartedAt: 2025-04-22 01:41:14 -0000 (Tue, 22 Apr 2025) EndedAt: 2025-04-22 01:41:37 -0000 (Tue, 22 Apr 2025) EllapsedTime: 23.0 seconds RetCode: 0 Status: OK PackageFile: iPAC_1.52.0.tar.gz PackageFileSize: 607 KiB