Package: iPAC Version: 1.52.0 Command: /Library/Frameworks/R.framework/Resources/bin/R CMD INSTALL iPAC StartedAt: 2025-04-21 15:26:22 -0400 (Mon, 21 Apr 2025) EndedAt: 2025-04-21 15:26:28 -0400 (Mon, 21 Apr 2025) EllapsedTime: 6.3 seconds RetCode: 0 Status: OK