Package: iNETgrate Version: 1.6.0 Command: /home/biocbuild/R/R/bin/R CMD build --keep-empty-dirs --no-resave-data iNETgrate StartedAt: 2025-05-13 01:33:50 -0000 (Tue, 13 May 2025) EndedAt: 2025-05-13 01:38:55 -0000 (Tue, 13 May 2025) EllapsedTime: 305.1 seconds RetCode: 0 Status: OK PackageFile: iNETgrate_1.6.0.tar.gz PackageFileSize: 3.968 MiB