Package: iNETgrate Version: 1.6.0 Command: /Library/Frameworks/R.framework/Resources/bin/R CMD build --keep-empty-dirs --no-resave-data iNETgrate StartedAt: 2025-05-02 02:14:09 -0400 (Fri, 02 May 2025) EndedAt: 2025-05-02 02:19:08 -0400 (Fri, 02 May 2025) EllapsedTime: 299.0 seconds RetCode: 0 Status: OK PackageFile: iNETgrate_1.6.0.tar.gz PackageFileSize: 3.979 MiB