Package: iNETgrate Version: 1.4.0 Command: rm -rf iNETgrate.buildbin-libdir && mkdir iNETgrate.buildbin-libdir && /Users/biocbuild/BBS/utils/build-universal.sh iNETgrate_1.4.0.tar.gz /Library/Frameworks/R.framework/Resources/bin/R iNETgrate.buildbin-libdir StartedAt: 2025-02-01 15:21:46 -0500 (Sat, 01 Feb 2025) EndedAt: 2025-02-01 15:23:04 -0500 (Sat, 01 Feb 2025) EllapsedTime: 77.5 seconds RetCode: 0 Status: OK PackageFile: iNETgrate_1.4.0.tgz PackageFileSize: 4.19 MiB