Package: iModMix Version: 1.0.0 Command: /home/biocbuild/bbs-3.22-bioc/R/bin/R CMD INSTALL iModMix StartedAt: 2025-11-02 15:58:02 -0500 (Sun, 02 Nov 2025) EndedAt: 2025-11-02 15:58:08 -0500 (Sun, 02 Nov 2025) EllapsedTime: 6.2 seconds RetCode: 0 Status: OK