Package: iModMix Version: 1.0.0 Command: /home/biocbuild/bbs-3.22-bioc/R/bin/R CMD build --keep-empty-dirs --no-resave-data --md5 iModMix StartedAt: 2025-11-02 18:29:17 -0500 (Sun, 02 Nov 2025) EndedAt: 2025-11-02 18:29:51 -0500 (Sun, 02 Nov 2025) EllapsedTime: 34.0 seconds RetCode: 0 Status: OK PackageFile: iModMix_1.0.0.tar.gz PackageFileSize: 10.48 MiB