Package: iModMix Version: 1.0.0 Command: /Library/Frameworks/R.framework/Resources/bin/R CMD INSTALL iModMix StartedAt: 2025-11-02 15:45:53 -0500 (Sun, 02 Nov 2025) EndedAt: 2025-11-02 15:46:02 -0500 (Sun, 02 Nov 2025) EllapsedTime: 9.3 seconds RetCode: 0 Status: OK