Package: iModMix Version: 1.0.0 Command: /Library/Frameworks/R.framework/Resources/bin/R CMD INSTALL iModMix StartedAt: 2025-11-03 15:23:04 -0500 (Mon, 03 Nov 2025) EndedAt: 2025-11-03 15:23:07 -0500 (Mon, 03 Nov 2025) EllapsedTime: 3.1 seconds RetCode: 0 Status: OK