Package: iModMix Version: 1.0.0 Command: /Library/Frameworks/R.framework/Resources/bin/R CMD INSTALL iModMix StartedAt: 2025-11-20 18:35:02 -0500 (Thu, 20 Nov 2025) EndedAt: 2025-11-20 18:35:10 -0500 (Thu, 20 Nov 2025) EllapsedTime: 8.3 seconds RetCode: 0 Status: OK