Package: iModMix Version: 1.0.0 Maintainer: Isis Narvaez-Bandera MaintainerEmail: isis.narvaez at upr.edu git_url: https://git.bioconductor.org/packages/iModMix git_branch: RELEASE_3_22 git_last_commit: f1207f8 git_last_commit_date: 2025-10-29 11:38:57 -0400 (Wed, 29 Oct 2025)