Package: iGC Version: 1.38.0 Command: /Library/Frameworks/R.framework/Resources/bin/R CMD check --install=check:iGC.install-out.txt --library=/Library/Frameworks/R.framework/Resources/library --no-vignettes --timings iGC_1.38.0.tar.gz StartedAt: 2025-04-29 08:16:27 -0400 (Tue, 29 Apr 2025) EndedAt: 2025-04-29 08:17:20 -0400 (Tue, 29 Apr 2025) EllapsedTime: 52.5 seconds RetCode: 0 Status: OK CheckDir: iGC.Rcheck Warnings: 0