Package: iGC Version: 1.38.0 Command: /Library/Frameworks/R.framework/Resources/bin/R CMD check --install=check:iGC.install-out.txt --library=/Library/Frameworks/R.framework/Resources/library --no-vignettes --timings iGC_1.38.0.tar.gz StartedAt: 2025-04-21 21:21:06 -0400 (Mon, 21 Apr 2025) EndedAt: 2025-04-21 21:21:44 -0400 (Mon, 21 Apr 2025) EllapsedTime: 38.4 seconds RetCode: 0 Status: OK CheckDir: iGC.Rcheck Warnings: 0