Package: iGC Version: 1.38.0 Command: /Library/Frameworks/R.framework/Resources/bin/R CMD check --install=check:iGC.install-out.txt --library=/Library/Frameworks/R.framework/Resources/library --no-vignettes --timings iGC_1.38.0.tar.gz StartedAt: 2025-05-02 22:43:58 -0400 (Fri, 02 May 2025) EndedAt: 2025-05-02 22:44:31 -0400 (Fri, 02 May 2025) EllapsedTime: 32.7 seconds RetCode: 0 Status: OK CheckDir: iGC.Rcheck Warnings: 0