Package: iClusterPlus Version: 1.44.0 Command: /Library/Frameworks/R.framework/Resources/bin/R CMD INSTALL iClusterPlus StartedAt: 2025-04-21 15:02:45 -0400 (Mon, 21 Apr 2025) EndedAt: 2025-04-21 15:03:23 -0400 (Mon, 21 Apr 2025) EllapsedTime: 37.7 seconds RetCode: 0 Status: OK