Package: iClusterPlus Version: 1.44.0 Command: rm -rf iClusterPlus.buildbin-libdir && mkdir iClusterPlus.buildbin-libdir && /Users/biocbuild/BBS/utils/build-universal.sh iClusterPlus_1.44.0.tar.gz /Library/Frameworks/R.framework/Resources/bin/R iClusterPlus.buildbin-libdir StartedAt: 2025-04-22 00:50:26 -0400 (Tue, 22 Apr 2025) EndedAt: 2025-04-22 00:51:23 -0400 (Tue, 22 Apr 2025) EllapsedTime: 57.6 seconds RetCode: 0 Status: OK PackageFile: iClusterPlus_1.44.0.tgz PackageFileSize: 16.15 MiB