Package: iClusterPlus Version: 1.44.0 Command: /Library/Frameworks/R.framework/Resources/bin/R CMD build --keep-empty-dirs --no-resave-data iClusterPlus StartedAt: 2025-05-20 01:55:01 -0400 (Tue, 20 May 2025) EndedAt: 2025-05-20 01:55:50 -0400 (Tue, 20 May 2025) EllapsedTime: 49.1 seconds RetCode: 0 Status: OK PackageFile: iClusterPlus_1.44.0.tar.gz PackageFileSize: 20.69 MiB