Package: iCheck Version: 1.38.0 Command: /home/biocbuild/R/R/bin/R CMD check --install=check:iCheck.install-out.txt --library=/home/biocbuild/R/R/site-library --no-vignettes --timings iCheck_1.38.0.tar.gz StartedAt: 2025-05-06 09:44:40 -0000 (Tue, 06 May 2025) EndedAt: 2025-05-06 09:51:44 -0000 (Tue, 06 May 2025) EllapsedTime: 424.5 seconds RetCode: 0 Status: OK CheckDir: iCheck.Rcheck Warnings: 0