Package: iCNV Version: 1.26.0 Command: /home/biocbuild/R/R/bin/R CMD INSTALL iCNV StartedAt: 2025-01-30 20:27:58 -0000 (Thu, 30 Jan 2025) EndedAt: 2025-01-30 20:28:38 -0000 (Thu, 30 Jan 2025) EllapsedTime: 40.5 seconds RetCode: 0 Status: OK