Package: iCARE Version: 1.36.0 Command: /home/biocbuild/R/R/bin/R CMD build --keep-empty-dirs --no-resave-data iCARE StartedAt: 2025-05-06 01:32:36 -0000 (Tue, 06 May 2025) EndedAt: 2025-05-06 01:40:58 -0000 (Tue, 06 May 2025) EllapsedTime: 502.2 seconds RetCode: 0 Status: OK PackageFile: iCARE_1.36.0.tar.gz PackageFileSize: 1.409 MiB