Package: iCARE Version: 1.36.0 Command: rm -rf iCARE.buildbin-libdir && mkdir iCARE.buildbin-libdir && /Users/biocbuild/BBS/utils/build-universal.sh iCARE_1.36.0.tar.gz /Library/Frameworks/R.framework/Resources/bin/R iCARE.buildbin-libdir StartedAt: 2025-04-21 22:38:38 -0400 (Mon, 21 Apr 2025) EndedAt: 2025-04-21 22:38:42 -0400 (Mon, 21 Apr 2025) EllapsedTime: 4.1 seconds RetCode: 0 Status: OK PackageFile: iCARE_1.36.0.tgz PackageFileSize: 1.502 MiB