Package: iBMQ Version: 1.46.0 Command: /home/biocbuild/R/R/bin/R CMD check --install=check:iBMQ.install-out.txt --library=/home/biocbuild/R/R/site-library --no-vignettes --timings iBMQ_1.46.0.tar.gz StartedAt: 2025-01-31 07:16:11 -0000 (Fri, 31 Jan 2025) EndedAt: 2025-01-31 07:16:49 -0000 (Fri, 31 Jan 2025) EllapsedTime: 38.0 seconds RetCode: 0 Status: OK CheckDir: iBMQ.Rcheck Warnings: 0