Package: iBBiG Version: 1.52.0 Command: /Library/Frameworks/R.framework/Resources/bin/R CMD INSTALL iBBiG StartedAt: 2025-04-21 15:10:53 -0400 (Mon, 21 Apr 2025) EndedAt: 2025-04-21 15:11:27 -0400 (Mon, 21 Apr 2025) EllapsedTime: 34.1 seconds RetCode: 0 Status: OK