Package: iBBiG Version: 1.52.0 Command: rm -rf iBBiG.buildbin-libdir && mkdir iBBiG.buildbin-libdir && /Users/biocbuild/BBS/utils/build-universal.sh iBBiG_1.52.0.tar.gz /Library/Frameworks/R.framework/Resources/bin/R iBBiG.buildbin-libdir StartedAt: 2025-04-22 00:50:22 -0400 (Tue, 22 Apr 2025) EndedAt: 2025-04-22 00:50:41 -0400 (Tue, 22 Apr 2025) EllapsedTime: 18.6 seconds RetCode: 0 Status: OK PackageFile: iBBiG_1.52.0.tgz PackageFileSize: 1.089 MiB