Package: iASeq Version: 1.52.0 Command: rm -rf iASeq.buildbin-libdir && mkdir iASeq.buildbin-libdir && /Users/biocbuild/BBS/utils/build-universal.sh iASeq_1.52.0.tar.gz /Library/Frameworks/R.framework/Resources/bin/R iASeq.buildbin-libdir StartedAt: 2025-05-02 13:30:16 -0400 (Fri, 02 May 2025) EndedAt: 2025-05-02 13:30:25 -0400 (Fri, 02 May 2025) EllapsedTime: 8.1 seconds RetCode: 0 Status: OK PackageFile: iASeq_1.52.0.tgz PackageFileSize: 253.2 KiB