Package: iASeq Version: 1.52.0 Command: /home/biocbuild/R/R/bin/R CMD INSTALL iASeq StartedAt: 2025-04-21 20:12:19 -0000 (Mon, 21 Apr 2025) EndedAt: 2025-04-21 20:12:27 -0000 (Mon, 21 Apr 2025) EllapsedTime: 8.5 seconds RetCode: 0 Status: OK