Package: iASeq Version: 1.52.0 Command: /home/biocbuild/R/R/bin/R CMD check --install=check:iASeq.install-out.txt --library=/home/biocbuild/R/R/site-library --no-vignettes --timings iASeq_1.52.0.tar.gz StartedAt: 2025-05-06 09:43:43 -0000 (Tue, 06 May 2025) EndedAt: 2025-05-06 09:44:03 -0000 (Tue, 06 May 2025) EllapsedTime: 20.0 seconds RetCode: 0 Status: OK CheckDir: iASeq.Rcheck Warnings: 0