Package: iASeq Version: 1.52.0 Command: /Library/Frameworks/R.framework/Resources/bin/R CMD check --install=check:iASeq.install-out.txt --library=/Library/Frameworks/R.framework/Resources/library --no-vignettes --timings iASeq_1.52.0.tar.gz StartedAt: 2025-04-21 19:52:06 -0400 (Mon, 21 Apr 2025) EndedAt: 2025-04-21 19:52:18 -0400 (Mon, 21 Apr 2025) EllapsedTime: 12.2 seconds RetCode: 0 Status: OK CheckDir: iASeq.Rcheck Warnings: 0