Package: iASeq Version: 1.52.0 Maintainer: Yingying Wei MaintainerEmail: ywei at jhsph.edu git_url: https://git.bioconductor.org/packages/iASeq git_branch: RELEASE_3_21 git_last_commit: aa841a2 git_last_commit_date: 2025-04-15 10:13:35 -0400 (Tue, 15 Apr 2025)