Package: hypergraph Version: 1.80.0 Command: /home/biocbuild/bbs-3.21-bioc/R/bin/R CMD INSTALL hypergraph StartedAt: 2025-10-05 15:13:04 -0400 (Sun, 05 Oct 2025) EndedAt: 2025-10-05 15:13:07 -0400 (Sun, 05 Oct 2025) EllapsedTime: 3.9 seconds RetCode: 0 Status: OK