Package: hypergraph Version: 1.80.0 Command: /home/biocbuild/bbs-3.21-bioc/R/bin/R CMD build --keep-empty-dirs --no-resave-data hypergraph StartedAt: 2025-10-05 18:03:23 -0400 (Sun, 05 Oct 2025) EndedAt: 2025-10-05 18:03:24 -0400 (Sun, 05 Oct 2025) EllapsedTime: 1.0 seconds RetCode: 0 Status: OK PackageFile: hypergraph_1.80.0.tar.gz PackageFileSize: 8.274 KiB