Package: hyperdraw Version: 1.62.0 Command: /home/biocbuild/R/R/bin/R CMD INSTALL hyperdraw StartedAt: 2025-11-17 21:20:46 -0000 (Mon, 17 Nov 2025) EndedAt: 2025-11-17 21:20:54 -0000 (Mon, 17 Nov 2025) EllapsedTime: 7.5 seconds RetCode: 0 Status: OK