Package: hyperdraw Version: 1.60.0 Command: /home/biocbuild/bbs-3.21-bioc/R/bin/R CMD INSTALL hyperdraw StartedAt: 2025-10-15 15:14:12 -0400 (Wed, 15 Oct 2025) EndedAt: 2025-10-15 15:14:17 -0400 (Wed, 15 Oct 2025) EllapsedTime: 5.3 seconds RetCode: 0 Status: OK