Package: hyperdraw Version: 1.60.0 Command: /home/biocbuild/bbs-3.21-bioc/R/bin/R CMD build --keep-empty-dirs --no-resave-data hyperdraw StartedAt: 2025-10-15 18:01:59 -0400 (Wed, 15 Oct 2025) EndedAt: 2025-10-15 18:02:09 -0400 (Wed, 15 Oct 2025) EllapsedTime: 10.0 seconds RetCode: 0 Status: OK PackageFile: hyperdraw_1.60.0.tar.gz PackageFileSize: 204.2 KiB