Package: hypeR Version: 2.4.0 Command: rm -rf hypeR.buildbin-libdir && mkdir hypeR.buildbin-libdir && /Users/biocbuild/BBS/utils/build-universal.sh hypeR_2.4.0.tar.gz /Library/Frameworks/R.framework/Resources/bin/R hypeR.buildbin-libdir StartedAt: 2025-01-31 12:59:14 -0500 (Fri, 31 Jan 2025) EndedAt: 2025-01-31 12:59:37 -0500 (Fri, 31 Jan 2025) EllapsedTime: 23.0 seconds RetCode: 0 Status: OK PackageFile: hypeR_2.4.0.tgz PackageFileSize: 595.4 KiB