Package: hypeR Version: 2.6.0 Command: /Library/Frameworks/R.framework/Resources/bin/R CMD build --keep-empty-dirs --no-resave-data hypeR StartedAt: 2025-04-21 17:09:10 -0400 (Mon, 21 Apr 2025) EndedAt: 2025-04-21 17:09:13 -0400 (Mon, 21 Apr 2025) EllapsedTime: 3.5 seconds RetCode: 1 Status: ERROR PackageFile: None PackageFileSize: NA