############################################################################## ############################################################################## ### ### Running command: ### ### /Library/Frameworks/R.framework/Resources/bin/R CMD build --keep-empty-dirs --no-resave-data hypeR ### ############################################################################## ############################################################################## * checking for file ‘hypeR/DESCRIPTION’ ... OK * preparing ‘hypeR’: * checking DESCRIPTION meta-information ... OK * installing the package to build vignettes ----------------------------------- * installing *source* package ‘hypeR’ ... ** this is package ‘hypeR’ version ‘2.6.0’ ** using staged installation ** R ** data ** inst ** byte-compile and prepare package for lazy loading Error: object ‘msigdbr_show_species’ is not exported by 'namespace:msigdbr' Execution halted ERROR: lazy loading failed for package ‘hypeR’ * removing ‘/private/tmp/RtmpccvQhQ/Rinst158b3130d86ef/hypeR’ ----------------------------------- ERROR: package installation failed