Package: hypeR Version: 2.6.0 Command: /home/biocbuild/R/R/bin/R CMD INSTALL hypeR StartedAt: 2025-04-21 20:19:56 -0000 (Mon, 21 Apr 2025) EndedAt: 2025-04-21 20:20:08 -0000 (Mon, 21 Apr 2025) EllapsedTime: 11.8 seconds RetCode: 1 Status: ERROR