Package: hypeR Version: 2.6.0 Command: /home/biocbuild/R/R/bin/R CMD build --keep-empty-dirs --no-resave-data hypeR StartedAt: 2025-05-06 01:32:15 -0000 (Tue, 06 May 2025) EndedAt: 2025-05-06 01:32:18 -0000 (Tue, 06 May 2025) EllapsedTime: 3.0 seconds RetCode: 1 Status: ERROR PackageFile: None PackageFileSize: NA