Package: hypeR Version: 2.6.0 Command: /Library/Frameworks/R.framework/Resources/bin/R CMD INSTALL hypeR StartedAt: 2025-04-21 15:04:55 -0400 (Mon, 21 Apr 2025) EndedAt: 2025-04-21 15:04:59 -0400 (Mon, 21 Apr 2025) EllapsedTime: 3.5 seconds RetCode: 1 Status: ERROR