Package: hypeR Version: 2.6.0 Command: /Library/Frameworks/R.framework/Resources/bin/R CMD build --keep-empty-dirs --no-resave-data hypeR StartedAt: 2025-05-06 01:57:55 -0400 (Tue, 06 May 2025) EndedAt: 2025-05-06 01:57:59 -0400 (Tue, 06 May 2025) EllapsedTime: 3.4 seconds RetCode: 1 Status: ERROR PackageFile: None PackageFileSize: NA