Package: hummingbird Version: 1.16.0 Command: /home/biocbuild/R/R/bin/R CMD build --keep-empty-dirs --no-resave-data hummingbird StartedAt: 2025-02-04 00:19:51 -0000 (Tue, 04 Feb 2025) EndedAt: 2025-02-04 00:20:35 -0000 (Tue, 04 Feb 2025) EllapsedTime: 44.0 seconds RetCode: 0 Status: OK PackageFile: hummingbird_1.16.0.tar.gz PackageFileSize: 442.8 KiB