Package: hummingbird Version: 1.16.0 Command: chmod a+r hummingbird -R && F:\biocbuild\bbs-3.20-bioc\R\bin\R.exe CMD build --keep-empty-dirs --no-resave-data hummingbird StartedAt: 2025-02-03 19:47:20 -0500 (Mon, 03 Feb 2025) EndedAt: 2025-02-03 19:48:06 -0500 (Mon, 03 Feb 2025) EllapsedTime: 45.9 seconds RetCode: 0 Status: OK PackageFile: hummingbird_1.16.0.tar.gz PackageFileSize: 405.1 KiB